BEGIN:VCALENDAR
VERSION:2.0
PRODID:-//Renaissance Entrepreneurship Center - ECPv6.15.19//NONSGML v1.0//EN
CALSCALE:GREGORIAN
METHOD:PUBLISH
X-WR-CALNAME:Renaissance Entrepreneurship Center
X-ORIGINAL-URL:https://rencenter.org
X-WR-CALDESC:Events for Renaissance Entrepreneurship Center
REFRESH-INTERVAL;VALUE=DURATION:PT1H
X-Robots-Tag:noindex
X-PUBLISHED-TTL:PT1H
BEGIN:VTIMEZONE
TZID:America/Los_Angeles
BEGIN:DAYLIGHT
TZOFFSETFROM:-0800
TZOFFSETTO:-0700
TZNAME:PDT
DTSTART:20250309T100000
END:DAYLIGHT
BEGIN:STANDARD
TZOFFSETFROM:-0700
TZOFFSETTO:-0800
TZNAME:PST
DTSTART:20251102T090000
END:STANDARD
BEGIN:DAYLIGHT
TZOFFSETFROM:-0800
TZOFFSETTO:-0700
TZNAME:PDT
DTSTART:20260308T100000
END:DAYLIGHT
BEGIN:STANDARD
TZOFFSETFROM:-0700
TZOFFSETTO:-0800
TZNAME:PST
DTSTART:20261101T090000
END:STANDARD
BEGIN:DAYLIGHT
TZOFFSETFROM:-0800
TZOFFSETTO:-0700
TZNAME:PDT
DTSTART:20270314T100000
END:DAYLIGHT
BEGIN:STANDARD
TZOFFSETFROM:-0700
TZOFFSETTO:-0800
TZNAME:PST
DTSTART:20271107T090000
END:STANDARD
END:VTIMEZONE
BEGIN:VEVENT
DTSTART;TZID=America/Los_Angeles:20260512T180000
DTEND;TZID=America/Los_Angeles:20260512T200000
DTSTAMP:20260421T115101
CREATED:20260420T173740Z
LAST-MODIFIED:20260420T174010Z
UID:10008465-1778608800-1778616000@rencenter.org
SUMMARY:📍Business for Growth and Succession 商業的成長與傳承 (Daly City)
DESCRIPTION:Advanced Smart Class for Small Businesses\n中小企業高階智慧課程\n \nEntrepreneurs and small business owners who take decisive action and build responsive\, agile cultures create the most impact. Develop the strategic knowledge\,\npractical tools\, leadership skills\, and succession planning needed to lead a thriving\, high-performance company.\n能夠果斷行動並建立靈活、敏捷組織文化的企業家與中小企業主，往往最具影響力。本課\n程旨在幫助您掌握策略思維、實務工具、領導能力及接班規劃，打造並持續發展高績效企\n業。 \nWho is expected to attend\n適合參加人士\n \nBusiness operators and managers responsible for shaping their company’s direction\, mission\, and strategic growth.\n負責企業發展方向、願景制定及策略成長的企業經營者、管理者及決策者。 \nWhat you will Learn\n課程重點\n \nTo help you navigate the management landscape\, respond to evolving service demands and resource constraints\, and redefine your business model to stay aligned with the economic pulse.\n協助您掌握在瞬息萬變的市場環境中所需的管理知識與技能，靈活應對服務需求變化與資\n源限制，並優化與重塑企業營運模式，使其與經濟趨勢保持一致。 \nThis program will assist you in\n本課程將協助您\n \n Conducting a strategic analysis for sustainable growth for your company. And develop service options beyond your plan.\n透過策略分析促進企業永續成長，並拓展超越現有規劃的多元服務方案。 \n Implement efficient management skills and systems.\n建立高效的管理制度與營運系統。 \n Grooming talent to become successors.\n培養與規劃接班人才，強化企業長遠發展。 \n Developing the skills necessary to make decisive decisions and build a more responsive\, impactful\, and sustainable business.\n培養果斷決策所需的關鍵能力，打造更具敏捷性、影響力與永續發展力的企業。 \nInterested in attending this class?\nPlease complete our interest form!\n加入我們
URL:https://rencenter.org/event/%f0%9f%93%8dbusiness-for-growth-and-succession-%e5%95%86%e6%a5%ad%e7%9a%84%e6%88%90%e9%95%b7%e8%88%87%e5%82%b3%e6%89%bf-daly-city/
LOCATION:Jefferson Adult Education\, 123 Edgemont Dr.\, Daly City\, 94015\, United States
CATEGORIES:Start Smart
ATTACH;FMTTYPE=image/jpeg:https://rencenter.org/wp-content/uploads/2026/04/Business-for-Growth-and-Succession-Tradition-Chinese.jpg
END:VEVENT
END:VCALENDAR