BEGIN:VCALENDAR
VERSION:2.0
PRODID:-//Renaissance Entrepreneurship Center - ECPv6.15.19//NONSGML v1.0//EN
CALSCALE:GREGORIAN
METHOD:PUBLISH
X-ORIGINAL-URL:https://rencenter.org
X-WR-CALDESC:Events for Renaissance Entrepreneurship Center
REFRESH-INTERVAL;VALUE=DURATION:PT1H
X-Robots-Tag:noindex
X-PUBLISHED-TTL:PT1H
BEGIN:VTIMEZONE
TZID:America/Los_Angeles
BEGIN:DAYLIGHT
TZOFFSETFROM:-0800
TZOFFSETTO:-0700
TZNAME:PDT
DTSTART:20250309T100000
END:DAYLIGHT
BEGIN:STANDARD
TZOFFSETFROM:-0700
TZOFFSETTO:-0800
TZNAME:PST
DTSTART:20251102T090000
END:STANDARD
BEGIN:DAYLIGHT
TZOFFSETFROM:-0800
TZOFFSETTO:-0700
TZNAME:PDT
DTSTART:20260308T100000
END:DAYLIGHT
BEGIN:STANDARD
TZOFFSETFROM:-0700
TZOFFSETTO:-0800
TZNAME:PST
DTSTART:20261101T090000
END:STANDARD
BEGIN:DAYLIGHT
TZOFFSETFROM:-0800
TZOFFSETTO:-0700
TZNAME:PDT
DTSTART:20270314T100000
END:DAYLIGHT
BEGIN:STANDARD
TZOFFSETFROM:-0700
TZOFFSETTO:-0800
TZNAME:PST
DTSTART:20271107T090000
END:STANDARD
END:VTIMEZONE
BEGIN:VEVENT
DTSTART;TZID=America/Los_Angeles:20260302T170000
DTEND;TZID=America/Los_Angeles:20260302T190000
DTSTAMP:20260424T165817
CREATED:20251124T212124Z
LAST-MODIFIED:20260403T105806Z
UID:10007810-1772470800-1772478000@rencenter.org
SUMMARY:Analisis Financiero para Tomar Decisiones (East Bay) (3/2/26)
DESCRIPTION:ANALISIS FINANCIERO PARA TOMAR DECISIONES \n\nLunes\, Marzo 2 | 5 – 7 PM por Zoom \n\nCon Maestro Tito Leal \n\nAprende a analizar tus estados financieros para tomar decisiones informadas\, identificar oportunidades de mejora y planear estrategias sólidas de crecimiento. \n\n\nEn este taller aprenderás a: \n\n\nComprender tus ingresos\, gastos y flujo de efectivo.\nDetectar oportunidades de negocio y reducir riesgos financieros.\nDiseñar estrategias efectivas para el crecimiento de tu empresa.\n\n\n\nEste taller es en coordinacion con The Latina Center \n.. \n¿Te gustaría unirte a este evento? \nTodos los clientes deben registrarse para las clases a través de su cuenta del portal del cliente. Así es como puedes hacerlo. \n¿Ya es cliente de Renaissance? \nInicie sesión en su portal de clientes y acceda al calendario en la parte superior de su pantalla \n¿Nuevo en la comunidad Renaissance? \nComience completando un formulario de interés del cliente y asistiendo a una orientación. \n*Todos los clientes deben completar un formulario de interés y asistir a la orientación antes de inscribirse en las clases.*
URL:https://rencenter.org/event/analisis-financiero-para-tomar-decisiones-east-bay-3-2-26/
LOCATION:zoom
CATEGORIES:Talleres en Español,Taller de Finanzas Empresariales
ATTACH;FMTTYPE=image/png:https://rencenter.org/wp-content/uploads/2025/11/Analisis-Financiero-para-Tomar-Decisiones.png
ORGANIZER;CN="Yuli Solis":MAILTO:ysolis@
END:VEVENT
BEGIN:VEVENT
DTSTART;TZID=America/Los_Angeles:20260303T173000
DTEND;TZID=America/Los_Angeles:20260303T183000
DTSTAMP:20260424T165817
CREATED:20260220T000041Z
LAST-MODIFIED:20260403T105737Z
UID:10007955-1772559000-1772562600@rencenter.org
SUMMARY:Construye tu presencia digital (WBC 03/09/26)
DESCRIPTION:Este taller enseña a los dueños de negocios cómo crear y fortalecer su presencia digital para atraer clientes y aumentar visibilidad. Aprenderá a usar redes sociales\, páginas web y herramientas en línea de manera estratégica\, generar contenido atractivo y mantener una imagen profesional coherente en todos sus canales digitales. \n\n\n\n\nNota: Nuestros servicios y programas están abiertos a todos los emprendedores. Todos los programas y servicios de Renaissance WBC/SOMA se ofrecen al público sin discriminación. \nFacilitadora: Adela Jaimes y equipo. \n \n  \nEmpresaria\, Mamá\, Mercadóloga de Profesión\, Amante del Diseño y Health Coach. Desde hace más de 15 años\, Adela se considera una apasionada en ayudar a emprendedores a transformar sus ideas en negocios rentables y exitosos a través de herramientas y técnicas efectivas de Marketing tradicional y Digital. Es Fundadora y CEO de Marketea una agencia de Diseño y Marketing enfocada a emprendedores\, dueños de negocio y organizaciones sin fines de lucro\, donde ha logrado darle forma y estructura a cientos de negocios desde Estrategias de Negocio\, Marketing\, Branding\, Redes Sociales\, Páginas Web\, Ecommerce hasta formación empresarial a través de talleres y cursos. Colabora con varias organizaciones sin fines de lucro en donde forma parte de Mesas Directivas\, y es mentora a través de consultorías e impartición talleres. Asimismo encabeza el diseño y ejecución de estrategias de marketing y comunicación para estas organizaciones. Ha colaborado con varias empresas transnacionales dentro del departamento de mercadotecnia apoyando en el desarrollo\, ejecución y lanzamientos de nuevos productos al mercado. \n  \n  \n\nTodos los clientes deben registrarse para las clases a través de su cuenta en el portal de clientes. Así es cómo puedes hacerlo: \n¿Ya eres cliente de Renaissance? \nInicia sesión en tu portal de cliente y accede al calendario en la parte superior de tu pantalla. \n¿Eres nuevo en la comunidad de Renaissance? \nComienza llenando un formulario de interés y nos pondremos en contacto para crear un portal de cliente. \n \n  \nRenaissance WBC se financia parcialmente mediante un acuerdo de cooperación con la Administración de Pequeñas Empresas de EE. UU. Todas las opiniones\, conclusiones y recomendaciones expresadas son las del/de los autor(es) y no necesariamente reflejan la opinión de la SBA. Todos los programas de la SBA o programas copatrocinados se ofrecen al público de forma no discriminatoria. Se realizarán adaptaciones razonables para personas con discapacidad\, si se solicitan\, con al menos dos semanas de antelación. Contacto: Women Business Center\, wbc@rencenter.org\, (415) 894-9779.
URL:https://rencenter.org/event/construye-tu-presencia-digital-wbc-03-09-26/
LOCATION:zoom
CATEGORIES:Talleres en Español,Talleres de Tecnología,Taller de Marketing,Taller de Herramientas Digitales
ATTACH;FMTTYPE=image/png:https://rencenter.org/wp-content/uploads/2026/02/🖥️Construye-tu-presencia-digital-WBC-030926.png
ORGANIZER;CN="Women's Business Center":MAILTO:wbc@rencenter.org
END:VEVENT
BEGIN:VEVENT
DTSTART;TZID=America/Los_Angeles:20260309T170000
DTEND;TZID=America/Los_Angeles:20260309T190000
DTSTAMP:20260424T165817
CREATED:20251124T212918Z
LAST-MODIFIED:20260403T105628Z
UID:10007812-1773075600-1773082800@rencenter.org
SUMMARY:Prepara tus finanzas y contabilidad para el 2026 (East Bay) (3/9/26)
DESCRIPTION:PREPARA TUS FINANZAS Y CONTABILIDAD PARA EL 2026 \n\n\n\nLunes | Marzo 9 | 5 – 7 pm por Zoom \n\n\n\nInstructor Tito Leal \n\n\n\n¡Dale un turbo a tus finanzas y lleva tu negocio al siguiente nivel en 2025! \n¿Qué aprenderás? \n\n\n\n – Planificación financiera paso a paso \n\n\n\n – Creación de presupuestos efectivos \n\n\n\n – Seguimiento de ingresos y gastos como un profesional \n\n\n\n – Preparación de estados financieros y estrategias fiscales \n\n\n\n – Cómo reinvertir ganancias para un crecimiento sólido \n\n\n\nEste taller es en coordinación con The Latina Center \n\n\n\n¡No te pierdas esta oportunidad de fortalecer tu negocio con finanzas inteligentes! \n.. \n¿Te gustaría unirte a este evento? \nTodos los clientes deben registrarse para las clases a través de su cuenta del portal del cliente. Así es como puedes hacerlo. \n¿Ya es cliente de Renaissance? \nInicie sesión en su portal de clientes y acceda al calendario en la parte superior de su pantalla \n¿Nuevo en la comunidad Renaissance? \nComience completando un formulario de interés del cliente y asistiendo a una orientación. \n*Todos los clientes deben completar un formulario de interés y asistir a la orientación antes de inscribirse en las clases.*
URL:https://rencenter.org/event/prepara-tus-finanzas-y-contabilidad-para-el-2026-east-bay-3-9-26/
LOCATION:zoom
CATEGORIES:Talleres en Español,Taller de Finanzas Empresariales
ATTACH;FMTTYPE=image/png:https://rencenter.org/wp-content/uploads/2025/11/Prepara-tus-finanzas-y-contabilidad-para-el-2026.png
ORGANIZER;CN="Yuli Solis":MAILTO:ysolis@
END:VEVENT
BEGIN:VEVENT
DTSTART;TZID=America/Los_Angeles:20260316T170000
DTEND;TZID=America/Los_Angeles:20260316T190000
DTSTAMP:20260424T165817
CREATED:20251124T213454Z
LAST-MODIFIED:20260403T105527Z
UID:10007813-1773680400-1773687600@rencenter.org
SUMMARY:QuickBooks en Accion (East Bay) (3/16/26)
DESCRIPTION:QUICKBOOKS EN ACCION: CONOCE ESTA PLATAFORMA DE CONTABILIDAD \n\nLunes | Marzo 16 | 5 – 7 pm por Zoom \n\nCon Maestro Tito Leal \n\nDescubre cómo QuickBooks puede transformar la gestión financiera de tu negocio en este taller virtual de 2 horas diseñado para emprendedores y dueños de pequeños negocios: \n\nAprende a registrar ingresos y gastos de manera efectiva. \n\nGestiona invoices (facturas) de forma organizada y profesional. \n\nGenera reportes clave para tomar decisiones financieras estratégicas. \n\n\nEste taller es en coordinacion con The Latina Center \n\n\n\n¡Domina esta herramienta y toma el control de tus finanzas con confianza! \n.. \n¿Te gustaría unirte a este evento? \nTodos los clientes deben registrarse para las clases a través de su cuenta del portal del cliente. Así es como puedes hacerlo. \n¿Ya es cliente de Renaissance? \nInicie sesión en su portal de clientes y acceda al calendario en la parte superior de su pantalla \n¿Nuevo en la comunidad Renaissance? \nComience completando un formulario de interés del cliente y asistiendo a una orientación. \n*Todos los clientes deben completar un formulario de interés y asistir a la orientación antes de inscribirse en las clases.*
URL:https://rencenter.org/event/quickbooks-en-accion-east-bay-3-16-26/
LOCATION:zoom
CATEGORIES:Talleres en Español,Taller de QuickBooks
ATTACH;FMTTYPE=image/png:https://rencenter.org/wp-content/uploads/2025/11/QuickBooks-en-Accion.png
ORGANIZER;CN="Yuli Solis":MAILTO:ysolis@
END:VEVENT
BEGIN:VEVENT
DTSTART;TZID=America/Los_Angeles:20260318T180000
DTEND;TZID=America/Los_Angeles:20260318T200000
DTSTAMP:20260424T165817
CREATED:20260129T002026Z
LAST-MODIFIED:20260403T105436Z
UID:10007927-1773856800-1773864000@rencenter.org
SUMMARY:Uso de Herramientas de Inteligencia Artificial para tu Negocio (NSMC)
DESCRIPTION:Sobre este clase\nCon Adela Jaimes \nEsta clase se llevará a cabo en persona en el Centro de Avance Económico\, en 366 Grand Ave.\, South San Francisco CA\, 94080. \nDescubre cómo usar la inteligencia artificial de forma sencilla para mejorar tus procesos y hacer crecer tu negocio. Aprende herramientas prácticas que te ahorrarán tiempo\, aumentarán tu productividad y te ayudarán a tomar mejores decisiones. \n\nTodos los clientes deben registrarse para las clases a través de su cuenta del portal del cliente. Así es como puedes hacerlo.\n¿Ya es cliente de Renaissance?\nInicie sesión en su portal de clientes y acceda al calendario en la parte superior de su pantalla \n¿Nuevo en la comunidad Renaissance?\nComience completando un formulario de interés del cliente y asistiendo a una orientación. \n*Todos los clientes deben completar un formulario de interés y asistir a la orientación antes de inscribirse en las clases.*
URL:https://rencenter.org/event/uso-de-herramientas-de-inteligencia-artificial-para-tu-negocio-nsmc/
LOCATION:Renaissance EAC\, 366 Grand Ave.\, South San Francisco\, CA\, 94080\, United States
CATEGORIES:Talleres en Español,Talleres de Tecnología,Taller de Herramientas Digitales
ATTACH;FMTTYPE=image/png:https://rencenter.org/wp-content/uploads/2026/01/Newsletter-3.18-Uso-de-Herramientas-de-Inteligencia-Artificial-para-tu-Negocio.png
ORGANIZER;CN="Carlos Reyes":MAILTO:north-smc@rencenter.org
END:VEVENT
BEGIN:VEVENT
DTSTART;TZID=America/Los_Angeles:20260323T170000
DTEND;TZID=America/Los_Angeles:20260323T190000
DTSTAMP:20260424T165817
CREATED:20251124T214503Z
LAST-MODIFIED:20260403T105402Z
UID:10007814-1774285200-1774292400@rencenter.org
SUMMARY:Por que es importante establecer un credito comercial? (East Bay) (3/23/26)
DESCRIPTION:¿POR QUÉ ES IMPORTANTE ESTABLECER UN CRÉDITO COMERCIAL? \n\nLUNES | MARZO 23 | 5 – 7 PM | POR ZOOM \n\n\nCon Maestra Susana Gama \n\n\n\n¡Un buen crédito comercial puede ser la clave para el crecimiento y estabilidad de tu negocio. Aprende cómo construir y fortalecer tu historial crediticio para acceder a mejores oportunidades financieras. \n\n\n\nAprende sobre: \n\n\n\nCómo funciona el crédito comercial y su impacto en tu negocio. \n\n\n\nEstrategias para construir y fortalecer tu identidad crediticia. \n\n\n\nLas principales agencias de crédito y cómo trabajar con ellas. \n\n\n\n¡No dejes pasar esta oportunidad para impulsar tu negocio! 🚀💳 \n\n\n\nColaboración con: The Latina Center \n.. \n¿Te gustaría unirte a este evento? \nTodos los clientes deben registrarse para las clases a través de su cuenta del portal del cliente. Así es como puedes hacerlo. \n¿Ya es cliente de Renaissance? \nInicie sesión en su portal de clientes y acceda al calendario en la parte superior de su pantalla \n¿Nuevo en la comunidad Renaissance? \nComience completando un formulario de interés del cliente y asistiendo a una orientación. \n*Todos los clientes deben completar un formulario de interés y asistir a la orientación antes de inscribirse en las clases.*
URL:https://rencenter.org/event/por-que-es-importante-establecer-un-credito-comercial-east-bay-3-23-26/
LOCATION:zoom
CATEGORIES:Talleres en Español,Taller de Credito Comercial
ATTACH;FMTTYPE=image/png:https://rencenter.org/wp-content/uploads/2025/11/¿Por-que-es-importante-establecer-un-credito-comercial.png
ORGANIZER;CN="Yuli Solis":MAILTO:ysolis@
END:VEVENT
BEGIN:VEVENT
DTSTART;TZID=America/Los_Angeles:20260324T180000
DTEND;TZID=America/Los_Angeles:20260324T200000
DTSTAMP:20260424T165817
CREATED:20260204T230606Z
LAST-MODIFIED:20260403T105255Z
UID:10007946-1774375200-1774382400@rencenter.org
SUMMARY:Fijación de Precios para los Productos y Servicios de Su Negocio (NSMC - SSF)
DESCRIPTION:Sobre este Evento\ncon Gabriela Sapp \nEN PERSONA\nSouth San Francisco Community Center \n520 Tamarack Ln\, South San Francisco\, CA 94080\nLa clase será en el salón de computación. \nEn este taller\, hablaremos sobre la importancia de establecer el precio adecuado para tus productos y servicios según tu modelo de ingresos y mercado objetivo\, utilizando estrategias como la fijación de precios basada en el valor\, entre otras. Se proporcionarán plantillas de calculadoras de precios. \n\n¿Quieres asistir a esta clase? \nTodos los clientes deben registrarse para las clases a través de su cuenta del portal del cliente. Así es como puedes hacerlo. \n¿Ya es cliente de Renaissance? \nInicie sesión en su portal de clientes y acceda al calendario en la parte superior de su pantalla \n¿Nuevo en la comunidad Renaissance? \nComience completando un formulario de interés del cliente y asistiendo a una orientación. \n*Todos los clientes deben completar un formulario de interés y asistir a la orientación antes de inscribirse en las clases.*
URL:https://rencenter.org/event/fijacion-de-precios-para-los-productos-y-servicios-de-su-negocio-nsmc-ssf/
LOCATION:South San Francisco Community Center\, 520 Tamarack Lane\, South San Francisco\, CA\, 94080\, United States
CATEGORIES:Finance Workshops,Talleres en Español
ATTACH;FMTTYPE=image/png:https://rencenter.org/wp-content/uploads/2026/02/Newsletter-3.24-Fijacion-de-Precios-para-los-Productos-y-Servicios-de-Su-Negocio.png
ORGANIZER;CN="Carlos Reyes":MAILTO:north-smc@rencenter.org
END:VEVENT
BEGIN:VEVENT
DTSTART;TZID=America/Los_Angeles:20260325T173000
DTEND;TZID=America/Los_Angeles:20260325T190000
DTSTAMP:20260424T165817
CREATED:20260121T161926Z
LAST-MODIFIED:20260403T105038Z
UID:10007911-1774459800-1774465200@rencenter.org
SUMMARY:Componentes Claves para un Negocio de Cuidado de Niños Exitoso (WBC 03/25/26 - 04/29/26)
DESCRIPTION:Únete a nuestro programa intensivo Componentes Claves para un Negocio de Cuidado de Niños Exitoso de  seis semanas vía zoom los días miércoles de 5:30 pm  a 7:00 pm. \nNuestro programa incluye  los siguientes temas a impartirse los días: \nMiércoles 25 de marzo \nConozca y explore las oportunidades empresariales dentro del cuidado infantil y evalúe la necesidad de programas de cuidado infantil. \nMiércoles 1 de abril  \nInicio de Estructura para su Negocio: Identificar la ubicación de negocio y requisitos para la licencia estatal (California) de cuidado de niños. \nMiércoles 8 de abril: \nEntidades de negocios: Cómo elegir su entidad de negocio y cómo elegir su preparación de impuestos. \nMiércoles 15 de abril:  \nFormas de Financiamiento: Análisis de Capital con en el Cuenta y Tipos de Financiamiento \nMiércoles 22 de abril: Plan de Administración: \n¿Qué es un Plan de Administración? Formar el Equipo Laboral o Empleados o Contratistas Independientes. Roles y Responsabilidades y  Proceso para Seleccionar el Personal o Formalizar la Selección de Empleos. \nPlan de Finanzas: \nQué es un Plan de Finanzas?\n• Presupuesto Inicial\n• Presupuesto Mensual y Anual\n• Conozca sus Gastos Operativos\n• Fuentes de Ingresos \nMiércoles 29 de abril:  \nPlan de Mercadeo: \n¿Qué es un Plan de Mercadeo?\n• Conozca sus Clientes\n• Conozca a la Competencia\n• Comercialización de su Negocio\n• Fuentes de Información de\nMercado \nPlan de Acción: \nPreparación de Área Laboral\n• Planificación Laboral\no Días/Horas de Servicio\no Características de Un\nContrato\no Planeación de\nActividades con los Niños\n• Estructuración de Servicio \nNota: Nuestros servicios y programas están abiertos a todos los emprendedores. Todos los programas y servicios de Renaissance WBC/SOMA se ofrecen al público sin discriminación. \nInstructora: Ruby Vargas \n  \n \nEn VARNEL Consultoria y Entrenamientos (VARNEL)\, nos dedicamos a fomentar comunidades seguras y saludables. Como empresa familiar propiedad de mujeres con más de una década de experiencia\, nos especializamos en capacitar a los proveedores de cuidado infantil para que cumplan con la capacitación en seguridad y mejoren su estructura operativa. Las cofundadoras\, Judith Vargas y Ruby Vargas\, están profundamente comprometidas a colaborar con proveedores de cuidado infantil y aspirantes a profesionales de la educación infantil. Nuestro equipo está entusiasmado de conectarse con aquellos inspirados para convertirse en empresarios dedicados a servir a los niños. \n  \n  \n  \nNota: solo se necesita inscribirse una vez para acceder a todas las clases. \nSi tienes dudas o necesitas ayuda puedes llenar este formulario de interes para inscribirse a este programa: Formulario de  interés \n\nTodos los clientes deben registrarse para las clases a través de su cuenta en el portal de clientes. Así es cómo puedes hacerlo: \n¿Ya eres cliente de Renaissance? \nInicia sesión en tu portal de cliente y accede al calendario en la parte superior de tu pantalla. \n¿Eres nuevo en la comunidad de Renaissance? \nComienza llenando este Formulario de interés y nos pondremos en contacto para crear un portal de cliente. \n*Todos los clientes deben completar un formulario de interés y asistir a una orientación antes de inscribirse en las clases.* \n \n  \nRenaissance WBC se financia en parte mediante un acuerdo de cooperación con la Administración de Pequeñas Empresas de EEUU. Todas las opiniones\, conclusiones o recomendaciones expresadas son las del autor o autores y no reflejan necesariamente el punto de vista de la SBA. Todos los programas de la SBA o programas copatrocinados se extienden al público sobre una base no discriminatoria. Se realizarán adaptaciones razonables para personas con discapacidad\, si se solicitan\, con al menos 2 semanas de antelación. Contacto: Contacto: Women Business Center\, wbc@rencenter.org o envie mensaje de texto (415) 894-9779.
URL:https://rencenter.org/event/componentes-claves-para-un-negocio-de-cuidado-de-ninos-exitoso-wbc-03-25-26-04-29-26/
LOCATION:zoom
CATEGORIES:Childcare Workshops,Talleres en Español
ATTACH;FMTTYPE=image/png:https://rencenter.org/wp-content/uploads/2026/01/🖥️Componentes-Claves-para-un-Negocio-de-Cuidado-de-Ninos-Exitoso-WBC-022526-032526-1.png
ORGANIZER;CN="Women's Business Center":MAILTO:wbc@rencenter.org
END:VEVENT
END:VCALENDAR