BEGIN:VCALENDAR
VERSION:2.0
PRODID:-//Renaissance Entrepreneurship Center - ECPv6.15.19//NONSGML v1.0//EN
CALSCALE:GREGORIAN
METHOD:PUBLISH
X-ORIGINAL-URL:https://rencenter.org
X-WR-CALDESC:Events for Renaissance Entrepreneurship Center
REFRESH-INTERVAL;VALUE=DURATION:PT1H
X-Robots-Tag:noindex
X-PUBLISHED-TTL:PT1H
BEGIN:VTIMEZONE
TZID:America/Los_Angeles
BEGIN:DAYLIGHT
TZOFFSETFROM:-0800
TZOFFSETTO:-0700
TZNAME:PDT
DTSTART:20250309T100000
END:DAYLIGHT
BEGIN:STANDARD
TZOFFSETFROM:-0700
TZOFFSETTO:-0800
TZNAME:PST
DTSTART:20251102T090000
END:STANDARD
BEGIN:DAYLIGHT
TZOFFSETFROM:-0800
TZOFFSETTO:-0700
TZNAME:PDT
DTSTART:20260308T100000
END:DAYLIGHT
BEGIN:STANDARD
TZOFFSETFROM:-0700
TZOFFSETTO:-0800
TZNAME:PST
DTSTART:20261101T090000
END:STANDARD
BEGIN:DAYLIGHT
TZOFFSETFROM:-0800
TZOFFSETTO:-0700
TZNAME:PDT
DTSTART:20270314T100000
END:DAYLIGHT
BEGIN:STANDARD
TZOFFSETFROM:-0700
TZOFFSETTO:-0800
TZNAME:PST
DTSTART:20271107T090000
END:STANDARD
END:VTIMEZONE
BEGIN:VEVENT
DTSTART;TZID=America/Los_Angeles:20260226T180000
DTEND;TZID=America/Los_Angeles:20260226T210000
DTSTAMP:20260421T012907
CREATED:20260126T202645Z
LAST-MODIFIED:20260403T105836Z
UID:10007925-1772128800-1772139600@rencenter.org
SUMMARY:Comienza con Confianza (En Persona - 4 semanas) (NSMC)
DESCRIPTION:Sobre este clase\nEsta clase se llevará a cabo durante 3 horas una vez a la semana durante cuatro semanas en persona en el Centro de Avance Económico\, en 366 Grand Ave.\, South San Francisco CA\, 94080. \nSi estás listo para comenzar un pequeño negocio\, eres completamente nuevo en el mundo empresarial o estás pensando en cómo cambiar la dirección de tu negocio\, ¡esta clase es para ti! Comienza con Confianza es un curso de cuatro semanas donde aprenderás las herramientas básicas y los fundamentos empresariales necesarios para comenzar con éxito. Trabajarás con un Modelo de Negocio Canvas (una herramienta visual práctica) para plasmar tus ideas en papel\, probar\, refinar y confirmar conceptos\, y ajustar tus conclusiones sobre las necesidades del cliente. \nResultados: \n\nDefina su visión\nCrear una declaración de misión\nEvalúe sus habilidades\, pasión y recursos.\nElabore una estrategia de negocio que se adapte a tu realidad\nPruebe la viabilidad de sus productos y servicios\n\n\nTodos los clientes deben registrarse para las clases a través de su cuenta del portal del cliente. Así es como puedes hacerlo.\n¿Ya es cliente de Renaissance?\nInicie sesión en su portal de clientes y acceda al calendario en la parte superior de su pantalla \n¿Nuevo en la comunidad Renaissance?\nComience completando un formulario de interés del cliente y asistiendo a una orientación. \n*Todos los clientes deben completar un formulario de interés y asistir a la orientación antes de inscribirse en las clases.*
URL:https://rencenter.org/event/comienza-con-confianza-en-persona-4-semanas-nsmc/
LOCATION:Renaissance EAC\, 366 Grand Ave.\, South San Francisco\, CA\, 94080\, United States
CATEGORIES:Small Business Intensive Training Classes,Start Smart
ATTACH;FMTTYPE=image/png:https://rencenter.org/wp-content/uploads/2026/01/Newsletter-2.26-Comienza-con-Confianza.png
ORGANIZER;CN="Carlos Reyes":MAILTO:north-smc@rencenter.org
END:VEVENT
BEGIN:VEVENT
DTSTART;TZID=America/Los_Angeles:20260226T180000
DTEND;TZID=America/Los_Angeles:20260226T210000
DTSTAMP:20260421T012907
CREATED:20260318T175135Z
LAST-MODIFIED:20260403T105826Z
UID:10007991-1772128800-1772139600@rencenter.org
SUMMARY:Plan de Negocios (9 semanas) (NSMC)
DESCRIPTION:Sobre este clase\nEsta clase se llevará a cabo durante 3 horas una vez a la semana durante nueve semanas en persona en el Centro de Avance Económico\, en 366 Grand Ave.\, South San Francisco CA\, 94080. \n  \n\nTodos los clientes deben registrarse para las clases a través de su cuenta del portal del cliente. Así es como puedes hacerlo.\n¿Ya es cliente de Renaissance?\nInicie sesión en su portal de clientes y acceda al calendario en la parte superior de su pantalla \n¿Nuevo en la comunidad Renaissance?\nComience completando un formulario de interés del cliente y asistiendo a una orientación. \n*Todos los clientes deben completar un formulario de interés y asistir a la orientación antes de inscribirse en las clases.*
URL:https://rencenter.org/event/plan-de-negocios-9-semanas-nsmc/
LOCATION:Renaissance EAC\, 366 Grand Ave.\, South San Francisco\, CA\, 94080\, United States
CATEGORIES:Small Business Intensive Training Classes,Start Smart
ATTACH;FMTTYPE=image/png:https://rencenter.org/wp-content/uploads/2026/01/Newsletter-2.26-Comienza-con-Confianza.png
ORGANIZER;CN="Carlos Reyes":MAILTO:north-smc@rencenter.org
END:VEVENT
BEGIN:VEVENT
DTSTART;TZID=America/Los_Angeles:20260302T170000
DTEND;TZID=America/Los_Angeles:20260302T190000
DTSTAMP:20260421T012907
CREATED:20260114T191237Z
LAST-MODIFIED:20260403T105756Z
UID:10007840-1772470800-1772478000@rencenter.org
SUMMARY:Business Modeling (East Bay) (3/2/2026-4/13/2026)
DESCRIPTION:This 7-part series helps entrepreneurs build a clear\, sustainable business model using the Business Model Canvas. As well as define their mission\, identify their audience\, and align their operations for growth\, with a personalized blueprint by the end. \n\n\n\nLearn how to: \n\n\n\n\nDefine a mission\, vision\, and core values that ground their business decisions and guide long-term impact\n\n\n\n\n\n\nExplore resources\, partnerships\, and tech tools needed to streamline business operations\, scale efficiently\, and remain competitive.\n\n\n\n\n\n\nCraft a compelling value proposition and identify your target audience\n\n\n\n\n\n\nUnderstand your costs and align them with revenue to boost profit and build financial stability\n\n\n\n\n\n\nDiscover ways your business can generate income and effective marketing channels\n\n********************************************************************************************** \nInterested in joining this event? \nAll clients must register for classes via your client portal account. Here’s how you can do it. \n\nAlready a Renaissance Client?  \nLog in to your client portal and access the calendar at the top of your screen \nNew to the Renaissance Community? \nGet started by filling out a client interest form and attending an orientation.  \n*All clients must complete an interest form and attend orientation before signing up for classes.*
URL:https://rencenter.org/event/business-modeling-east-bay-3-2-2026-4-13-2026/
LOCATION:zoom
CATEGORIES:Small Business Intensive Training Classes,Business Planning Class
ATTACH;FMTTYPE=image/png:https://rencenter.org/wp-content/uploads/2026/01/Business-Modeling-2026.png
END:VEVENT
BEGIN:VEVENT
DTSTART;TZID=America/Los_Angeles:20260302T180000
DTEND;TZID=America/Los_Angeles:20260323T210000
DTSTAMP:20260421T012907
CREATED:20260220T003808Z
LAST-MODIFIED:20260403T105745Z
UID:10007958-1772474400-1774299600@rencenter.org
SUMMARY:Start Smart (SMACE 3/2/2026-3/23/2026)
DESCRIPTION:What you will learn in the first 4 weeks!\n\nClarifying your business idea: Your goals and why you’re starting.\nDefining your customers & value: Who you serve and how you’ll earn income.\nUnderstand your costs: What it takes to run your business.\nBuilding a simple action plan: Your next steps to move forward.\n\nInterested in attending this class?\nWe’re thrilled to have you! All clients must register for classes via your client portal account. Here’s how you can do it:\nAlready a Renaissance Client?\n\nLog in to your client portal\n\n\nGo to the Calendar: Navigate to the Calendar tab at your portal’s top left corner.\n\n\nSelect & Enroll: Find your desired class\, click on Enroll\, answer the brief questions\, and hit Submit.\n\nNew to the Renaissance Community?\n\nGet started by filling out a client interest form and creating your client portal.\n\n\nOrientation: Sign up for an orientation session and meet with a Renaissance team member who will work with you to assess your business needs.\n\n\nPost-Orientation Steps: Log into your new client portal after completing the orientation. Then\, follow the steps outlined under “Already a Renaissance Client” to register for classes.\n\n  \n*All clients must complete orientation before attending classes*
URL:https://rencenter.org/event/start-smart-smace-3-2-2026-3-23-2026/
LOCATION:San Mateo Adult and Career Education\, 789 E Poplar Ave.\, San Mateo\, CA\, 94401\, United States
CATEGORIES:Start Smart
ATTACH;FMTTYPE=application/pdf:https://rencenter.org/wp-content/uploads/2026/02/SMACE-FLYER-Updated-1-1.pdf
END:VEVENT
BEGIN:VEVENT
DTSTART;TZID=America/Los_Angeles:20260428T180000
DTEND;TZID=America/Los_Angeles:20260428T200000
DTSTAMP:20260421T012907
CREATED:20260414T004346Z
LAST-MODIFIED:20260414T183038Z
UID:10008447-1777399200-1777406400@rencenter.org
SUMMARY:🖥️Start Smart (Bayview 4/28/26- 5/19/26)
DESCRIPTION:  \nAbout this Class\n\nFacilitator:  Ericka Scott \nLearn the business fundamentals to starting a business. Register now- to understand your business strategy and see if you have a viable business or service. \nDiscover How To: \n\nDefine your vision\nCreate a mission statement\nAssess your skills\, passion\, and resources\nCraft a business strategy to match your reality\nTest the viability of your products and services\n\n\nInterested in attending this event? \nAll clients must register for classes via your client portal account. Here’s how you can do it. \nAlready a Renaissance Client?  \nLog in to your client portal and access the calendar at the top of your screen \nNew to the Renaissance Community? \nGet started by filling out a client interest form and attending an orientation. \n*All clients must complete an interest form and attend orientation before signing up for classes.*
URL:https://rencenter.org/event/%f0%9f%96%a5%ef%b8%8fstart-smart-bayview-4-28-26-5-19-26/2026-04-28/
LOCATION:Online
CATEGORIES:Small Business Intensive Training Classes,Skill Building Workshops
ATTACH;FMTTYPE=image/jpeg:https://rencenter.org/wp-content/uploads/2026/04/Image_20260413_082857_635-1.jpg
ORGANIZER;CN="Jazzlyn Morton":MAILTO:jmorton@
END:VEVENT
BEGIN:VEVENT
DTSTART;TZID=America/Los_Angeles:20260505T180000
DTEND;TZID=America/Los_Angeles:20260505T200000
DTSTAMP:20260421T012907
CREATED:20260414T004346Z
LAST-MODIFIED:20260414T183038Z
UID:10008448-1778004000-1778011200@rencenter.org
SUMMARY:🖥️Start Smart (Bayview 4/28/26- 5/19/26)
DESCRIPTION:  \nAbout this Class\n\nFacilitator:  Ericka Scott \nLearn the business fundamentals to starting a business. Register now- to understand your business strategy and see if you have a viable business or service. \nDiscover How To: \n\nDefine your vision\nCreate a mission statement\nAssess your skills\, passion\, and resources\nCraft a business strategy to match your reality\nTest the viability of your products and services\n\n\nInterested in attending this event? \nAll clients must register for classes via your client portal account. Here’s how you can do it. \nAlready a Renaissance Client?  \nLog in to your client portal and access the calendar at the top of your screen \nNew to the Renaissance Community? \nGet started by filling out a client interest form and attending an orientation. \n*All clients must complete an interest form and attend orientation before signing up for classes.*
URL:https://rencenter.org/event/%f0%9f%96%a5%ef%b8%8fstart-smart-bayview-4-28-26-5-19-26/2026-05-05/
LOCATION:Online
CATEGORIES:Small Business Intensive Training Classes,Skill Building Workshops
ATTACH;FMTTYPE=image/jpeg:https://rencenter.org/wp-content/uploads/2026/04/Image_20260413_082857_635-1.jpg
ORGANIZER;CN="Jazzlyn Morton":MAILTO:jmorton@
END:VEVENT
BEGIN:VEVENT
DTSTART;TZID=America/Los_Angeles:20260512T180000
DTEND;TZID=America/Los_Angeles:20260512T200000
DTSTAMP:20260421T012907
CREATED:20260414T004346Z
LAST-MODIFIED:20260414T183038Z
UID:10008449-1778608800-1778616000@rencenter.org
SUMMARY:🖥️Start Smart (Bayview 4/28/26- 5/19/26)
DESCRIPTION:  \nAbout this Class\n\nFacilitator:  Ericka Scott \nLearn the business fundamentals to starting a business. Register now- to understand your business strategy and see if you have a viable business or service. \nDiscover How To: \n\nDefine your vision\nCreate a mission statement\nAssess your skills\, passion\, and resources\nCraft a business strategy to match your reality\nTest the viability of your products and services\n\n\nInterested in attending this event? \nAll clients must register for classes via your client portal account. Here’s how you can do it. \nAlready a Renaissance Client?  \nLog in to your client portal and access the calendar at the top of your screen \nNew to the Renaissance Community? \nGet started by filling out a client interest form and attending an orientation. \n*All clients must complete an interest form and attend orientation before signing up for classes.*
URL:https://rencenter.org/event/%f0%9f%96%a5%ef%b8%8fstart-smart-bayview-4-28-26-5-19-26/2026-05-12/
LOCATION:Online
CATEGORIES:Small Business Intensive Training Classes,Skill Building Workshops
ATTACH;FMTTYPE=image/jpeg:https://rencenter.org/wp-content/uploads/2026/04/Image_20260413_082857_635-1.jpg
ORGANIZER;CN="Jazzlyn Morton":MAILTO:jmorton@
END:VEVENT
BEGIN:VEVENT
DTSTART;TZID=America/Los_Angeles:20260512T180000
DTEND;TZID=America/Los_Angeles:20260512T200000
DTSTAMP:20260421T012907
CREATED:20260420T173740Z
LAST-MODIFIED:20260420T174010Z
UID:10008465-1778608800-1778616000@rencenter.org
SUMMARY:📍Business for Growth and Succession 商業的成長與傳承 (Daly City)
DESCRIPTION:Advanced Smart Class for Small Businesses\n中小企業高階智慧課程\n \nEntrepreneurs and small business owners who take decisive action and build responsive\, agile cultures create the most impact. Develop the strategic knowledge\,\npractical tools\, leadership skills\, and succession planning needed to lead a thriving\, high-performance company.\n能夠果斷行動並建立靈活、敏捷組織文化的企業家與中小企業主，往往最具影響力。本課\n程旨在幫助您掌握策略思維、實務工具、領導能力及接班規劃，打造並持續發展高績效企\n業。 \nWho is expected to attend\n適合參加人士\n \nBusiness operators and managers responsible for shaping their company’s direction\, mission\, and strategic growth.\n負責企業發展方向、願景制定及策略成長的企業經營者、管理者及決策者。 \nWhat you will Learn\n課程重點\n \nTo help you navigate the management landscape\, respond to evolving service demands and resource constraints\, and redefine your business model to stay aligned with the economic pulse.\n協助您掌握在瞬息萬變的市場環境中所需的管理知識與技能，靈活應對服務需求變化與資\n源限制，並優化與重塑企業營運模式，使其與經濟趨勢保持一致。 \nThis program will assist you in\n本課程將協助您\n \n Conducting a strategic analysis for sustainable growth for your company. And develop service options beyond your plan.\n透過策略分析促進企業永續成長，並拓展超越現有規劃的多元服務方案。 \n Implement efficient management skills and systems.\n建立高效的管理制度與營運系統。 \n Grooming talent to become successors.\n培養與規劃接班人才，強化企業長遠發展。 \n Developing the skills necessary to make decisive decisions and build a more responsive\, impactful\, and sustainable business.\n培養果斷決策所需的關鍵能力，打造更具敏捷性、影響力與永續發展力的企業。 \nInterested in attending this class?\nPlease complete our interest form!\n加入我們
URL:https://rencenter.org/event/%f0%9f%93%8dbusiness-for-growth-and-succession-%e5%95%86%e6%a5%ad%e7%9a%84%e6%88%90%e9%95%b7%e8%88%87%e5%82%b3%e6%89%bf-daly-city/
LOCATION:Jefferson Adult Education\, 123 Edgemont Dr.\, Daly City\, 94015\, United States
CATEGORIES:Start Smart
ATTACH;FMTTYPE=image/jpeg:https://rencenter.org/wp-content/uploads/2026/04/Business-for-Growth-and-Succession-Tradition-Chinese.jpg
END:VEVENT
BEGIN:VEVENT
DTSTART;TZID=America/Los_Angeles:20260519T180000
DTEND;TZID=America/Los_Angeles:20260519T200000
DTSTAMP:20260421T012907
CREATED:20260414T004346Z
LAST-MODIFIED:20260414T183038Z
UID:10008450-1779213600-1779220800@rencenter.org
SUMMARY:🖥️Start Smart (Bayview 4/28/26- 5/19/26)
DESCRIPTION:  \nAbout this Class\n\nFacilitator:  Ericka Scott \nLearn the business fundamentals to starting a business. Register now- to understand your business strategy and see if you have a viable business or service. \nDiscover How To: \n\nDefine your vision\nCreate a mission statement\nAssess your skills\, passion\, and resources\nCraft a business strategy to match your reality\nTest the viability of your products and services\n\n\nInterested in attending this event? \nAll clients must register for classes via your client portal account. Here’s how you can do it. \nAlready a Renaissance Client?  \nLog in to your client portal and access the calendar at the top of your screen \nNew to the Renaissance Community? \nGet started by filling out a client interest form and attending an orientation. \n*All clients must complete an interest form and attend orientation before signing up for classes.*
URL:https://rencenter.org/event/%f0%9f%96%a5%ef%b8%8fstart-smart-bayview-4-28-26-5-19-26/2026-05-19/
LOCATION:Online
CATEGORIES:Small Business Intensive Training Classes,Skill Building Workshops
ATTACH;FMTTYPE=image/jpeg:https://rencenter.org/wp-content/uploads/2026/04/Image_20260413_082857_635-1.jpg
ORGANIZER;CN="Jazzlyn Morton":MAILTO:jmorton@
END:VEVENT
BEGIN:VEVENT
DTSTART;TZID=America/Los_Angeles:20260618T170000
DTEND;TZID=America/Los_Angeles:20260618T193000
DTSTAMP:20260421T012907
CREATED:20260410T182519Z
LAST-MODIFIED:20260410T182802Z
UID:10008391-1781802000-1781811000@rencenter.org
SUMMARY:🖥️Plan de Negocios - 9 Sesiones (WBC 06/18/26 - 08/13/26)
DESCRIPTION:Nos reuniremos una vez a la semana durante 9 semanas. \n¡Inscríbase en nuestro curso integral de Plan de Negocios para desarrollar los conceptos comerciales esenciales y potenciar su emprendimiento! \nDurante estas clases\, exploraremos los fundamentos comerciales\, como definir a tus clientes potenciales\, manejo de operaciones clave\, principios básicos de finanzas empresariales y estrategias de marketing efectivas para impulsar su presencia. Al finalizar el curso\, habrá elaborado un plan de negocios básico que detalla sus objetivos y estrategias para alcanzarlos. ¡Únase a nosotros para una experiencia educativa y práctica que lo preparará para el éxito empresarial. ¡No espere más para impulsar su negocio! \nNota: Nuestros servicios y programas están abiertos a todos los emprendedores. Todos los programas y servicios de Renaissance WBC/SOMA se ofrecen al público sin discriminación. \nFacilitadora: Adela Jaimes y equipo. \n \n  \nEmpresaria\, Mamá\, Mercadóloga de Profesión\, Amante del Diseño y Health Coach. Desde hace más de 15 años\, Adela se considera una apasionada en ayudar a emprendedores a transformar sus ideas en negocios rentables y exitosos a través de herramientas y técnicas efectivas de Marketing tradicional y Digital. Es Fundadora y CEO de Marketea una agencia de Diseño y Marketing enfocada a emprendedores\, dueños de negocio y organizaciones sin fines de lucro\, donde ha logrado darle forma y estructura a cientos de negocios desde Estrategias de Negocio\, Marketing\, Branding\, Redes Sociales\, Páginas Web\, Ecommerce hasta formación empresarial a través de talleres y cursos. Colabora con varias organizaciones sin fines de lucro en donde forma parte de Mesas Directivas\, y es mentora a través de consultorías e impartición talleres. Asimismo encabeza el diseño y ejecución de estrategias de marketing y comunicación para estas organizaciones. Ha colaborado con varias empresas transnacionales dentro del departamento de mercadotecnia apoyando en el desarrollo\, ejecución y lanzamientos de nuevos productos al mercado. \n  \n  \n\nTodos los clientes deben registrarse para las clases a través de su cuenta en el portal de clientes. Así es cómo puedes hacerlo: \n¿Ya eres cliente de Renaissance? \nInicia sesión en tu portal de cliente y accede al calendario en la parte superior de tu pantalla. \n¿Eres nuevo en la comunidad de Renaissance? \nComienza llenando un formulario de interés y nos pondremos en contacto para crear un portal de cliente. \n \n  \nRenaissance WBC se financia parcialmente mediante un acuerdo de cooperación con la Administración de Pequeñas Empresas de EE. UU. Todas las opiniones\, conclusiones y recomendaciones expresadas son las del/de los autor(es) y no necesariamente reflejan la opinión de la SBA. Todos los programas de la SBA o programas copatrocinados se ofrecen al público de forma no discriminatoria. Se realizarán adaptaciones razonables para personas con discapacidad\, si se solicitan\, con al menos dos semanas de antelación. Contacto: Women Business Center\, wbc@rencenter.org\, (415) 894-9779.
URL:https://rencenter.org/event/%f0%9f%96%a5%ef%b8%8fplan-de-negocios-9-sesiones-wbc-06-18-26-08-13-26/
LOCATION:CA
CATEGORIES:Business Planning Class
ATTACH;FMTTYPE=application/pdf:https://rencenter.org/wp-content/uploads/2026/04/w-footer-1.pdf
ORGANIZER;CN="Women's Business Center":MAILTO:wbc@rencenter.org
END:VEVENT
END:VCALENDAR