BEGIN:VCALENDAR
VERSION:2.0
PRODID:-//Renaissance Entrepreneurship Center - ECPv6.15.19//NONSGML v1.0//EN
CALSCALE:GREGORIAN
METHOD:PUBLISH
X-ORIGINAL-URL:https://rencenter.org
X-WR-CALDESC:Events for Renaissance Entrepreneurship Center
REFRESH-INTERVAL;VALUE=DURATION:PT1H
X-Robots-Tag:noindex
X-PUBLISHED-TTL:PT1H
BEGIN:VTIMEZONE
TZID:America/Los_Angeles
BEGIN:DAYLIGHT
TZOFFSETFROM:-0800
TZOFFSETTO:-0700
TZNAME:PDT
DTSTART:20240310T100000
END:DAYLIGHT
BEGIN:STANDARD
TZOFFSETFROM:-0700
TZOFFSETTO:-0800
TZNAME:PST
DTSTART:20241103T090000
END:STANDARD
BEGIN:DAYLIGHT
TZOFFSETFROM:-0800
TZOFFSETTO:-0700
TZNAME:PDT
DTSTART:20250309T100000
END:DAYLIGHT
BEGIN:STANDARD
TZOFFSETFROM:-0700
TZOFFSETTO:-0800
TZNAME:PST
DTSTART:20251102T090000
END:STANDARD
BEGIN:DAYLIGHT
TZOFFSETFROM:-0800
TZOFFSETTO:-0700
TZNAME:PDT
DTSTART:20260308T100000
END:DAYLIGHT
BEGIN:STANDARD
TZOFFSETFROM:-0700
TZOFFSETTO:-0800
TZNAME:PST
DTSTART:20261101T090000
END:STANDARD
END:VTIMEZONE
BEGIN:VEVENT
DTSTART;TZID=America/Los_Angeles:20250923T110000
DTEND;TZID=America/Los_Angeles:20250923T130000
DTSTAMP:20260419T122525
CREATED:20250904T174125Z
LAST-MODIFIED:20260403T113114Z
UID:10007719-1758625200-1758632400@rencenter.org
SUMMARY:Start Smart (4 weeks) (09/09/2025 - 09/30/2025) - ONLINE
DESCRIPTION:About this Class\nwith Vanessa Zamy\nOnline course via zoom  \n\nLearn the fundamentals of starting a business. Register now to understand your business strategy and see if you have a viable business or service. \n\nDiscover How To: \n\n\nDefine your vision\nCreate a mission statement\nAssess your skills\, passion\, and resources\nCraft a business strategy to match your reality\nTest the viability of your products and services\n\n\n\nInterested in attending this event? \nAll clients must register for classes via your client portal account. Here’s how you can do it. \n\nAlready a Renaissance Client?  \nLog in to your client portal and access the calendar at the top of your screen \nNew to the Renaissance Community? \nGet started by filling out a client interest form and attending an orientation.  \n**All clients must complete their forms and attend orientation before signing up for classes.**
URL:https://rencenter.org/event/start-smart-4-weeks-09-09-2025-09-30-2025-online/2025-09-23/
LOCATION:Online
CATEGORIES:Small Business Intensive Training Classes,Start Smart,Business Planning Class,Business Prep Class
ORGANIZER;CN="Lizzette Solis":MAILTO:SMC-Coastside@rencenter.org
END:VEVENT
END:VCALENDAR