BEGIN:VCALENDAR
VERSION:2.0
PRODID:-//Renaissance Entrepreneurship Center - ECPv6.15.19//NONSGML v1.0//EN
CALSCALE:GREGORIAN
METHOD:PUBLISH
X-WR-CALNAME:Renaissance Entrepreneurship Center
X-ORIGINAL-URL:https://rencenter.org
X-WR-CALDESC:Events for Renaissance Entrepreneurship Center
REFRESH-INTERVAL;VALUE=DURATION:PT1H
X-Robots-Tag:noindex
X-PUBLISHED-TTL:PT1H
BEGIN:VTIMEZONE
TZID:America/Los_Angeles
BEGIN:DAYLIGHT
TZOFFSETFROM:-0800
TZOFFSETTO:-0700
TZNAME:PDT
DTSTART:20250309T100000
END:DAYLIGHT
BEGIN:STANDARD
TZOFFSETFROM:-0700
TZOFFSETTO:-0800
TZNAME:PST
DTSTART:20251102T090000
END:STANDARD
BEGIN:DAYLIGHT
TZOFFSETFROM:-0800
TZOFFSETTO:-0700
TZNAME:PDT
DTSTART:20260308T100000
END:DAYLIGHT
BEGIN:STANDARD
TZOFFSETFROM:-0700
TZOFFSETTO:-0800
TZNAME:PST
DTSTART:20261101T090000
END:STANDARD
BEGIN:DAYLIGHT
TZOFFSETFROM:-0800
TZOFFSETTO:-0700
TZNAME:PDT
DTSTART:20270314T100000
END:DAYLIGHT
BEGIN:STANDARD
TZOFFSETFROM:-0700
TZOFFSETTO:-0800
TZNAME:PST
DTSTART:20271107T090000
END:STANDARD
END:VTIMEZONE
BEGIN:VEVENT
DTSTART;TZID=America/Los_Angeles:20260422T180000
DTEND;TZID=America/Los_Angeles:20260422T200000
DTSTAMP:20260422T013307
CREATED:20241125T235949Z
LAST-MODIFIED:20260406T102152Z
UID:10008072-1776880800-1776888000@rencenter.org
SUMMARY:📍Introduccion a Google Docs/Sheets (HMB 2/12/25 -2/19/25)
DESCRIPTION:Introduccion a Google Docs/Sheets \n12 de Febrero a las 6 PM \n637 Main St.\, Half Moon Bay –  EN PERSONA \nSobre la Clase\nEste taller se llevara a cabo en el Centro de Oportunidad de la Costa\, en 637 Main St.\, Half Moon Bay CA\, 94019. \n  \n\n\nInterested in attending this class? \nWe’re thrilled to have you! All clients must register for classes via your client portal account. Here’s how you can do it:\nAlready a Renaissance Client? \n\nLog in to your client portal\nGo to the Calendar: Once logged in\, navigate to the Calendar tab at your portal’s top left corner.\nSelect & Enroll: Find your desired class\, click on Enroll\, answer the brief questions\, and hit Submit.\n\nNew to the Renaissance Community?\n\nGet started by filling out a client interest form and creating your client portal.\nOrientation: Sign up for an orientation session and meet with a Renaissance team member who will work with you to assess your business needs.\nPost-Orientation Steps: Log into your new client portal after completing the orientation. Then\, follow the steps outlined under “Already a Renaissance Client” to register for classes.\n\n  \n*All clients must complete orientation before attending classes* \n  \n 
URL:https://rencenter.org/event/introduccion-a-google-docs-sheets-2-12-25-2-19-25/2026-04-22/
LOCATION:Opportunity Center of the Coastside\, 637 Main St\, Half Moon Bay\, CA\, 94019\, United States
CATEGORIES:Technology Workshop
ATTACH;FMTTYPE=image/png:https://rencenter.org/wp-content/uploads/2024/11/intro-to-google-docssheets.png
ORGANIZER;CN="Celeste Hernandez":MAILTO:chernandez@
END:VEVENT
BEGIN:VEVENT
DTSTART;TZID=America/Los_Angeles:20260422T183000
DTEND;TZID=America/Los_Angeles:20260422T200000
DTSTAMP:20260422T013307
CREATED:20260312T200548Z
LAST-MODIFIED:20260421T165551Z
UID:10007985-1776882600-1776888000@rencenter.org
SUMMARY:Procurement & Federal Contracting Certifications (WBC 04/22/26)
DESCRIPTION:The United States Federal Government is the largest buyer of products and services on the planet! This creates a competitive environment where thousands upon thousands of businesses\, both large and small\, are battling for a chance to sell their products and service into this huge\nmarketplace. This is where the power of Federal Certifications comes into play and allows greater opportunity and access for the small business community. \nDesigned for business owners who are interested in applying for a federal certification\, and for those who already have one\, but want advice on how to take full advantage of their certification. You’ll learn about each Federal socio-economic certification\, how to qualify\,\nthe application process\, and the pro’s and con’s of each certification. This webinar will also discuss how certifications actually work in federal contracting. We will also cover the website SAM.GOV and its importance\, challenges\, and opportunities. The very first step in seeking federal contracts and getting a federal certification is being able to\ncorrectly register your business on SAM.GOV. Then once you’re registered on the site\, using SAM.GOV’s database to understand which agencies offer sole source and set-aside contracts using specific certifications. \nWebinar topics include:’ \n\nDoing Business with the Federal Government\n– Small Disadvantaged Business (SDB)\n– Veteran-Owned Small Business (VOSB)\n– Service-Disabled Veteran-Owned Small Business (SDVOSB)\n– Woman-Owned Small Business (WOSB)\n– 8(a) Business Development Program\n– HUBZone\nSole Source\, Set-Aside and Subcontracting Opportunities\nOverview of each federal certification and how to qualify\nThe application process and timeline\nSAM.GOV – Where it all starts\n– Using SAM.GOV to find new opportunities and marketing research\n\nFacilitator: Tara Cruz \nNote: Our services and programs are open to all entrepreneurs. All Renaissance WBC/SOMA programs and services are extended to the public on a nondiscriminatory basis. \n\nAll clients  must register for classes via your client portal account. Here is how you can do it.\n \nAlready a Renaissance Client?  \nLog in to your client portal and access the calendar at the top of your screen \nNew to the Renaissance Community? \nGet started by filling out a client interest form and attending an orientation. \n*All clients must complete an interest form and attend orientation before signing up for classes.* \n \n  \n  \nRenaissance WBC is funded in part through a cooperative agreement with the U.S. Small Business Administration. All opinions\, conclusions\, or recommendations expressed are those of the author(s) and do not necessarily reflect the view of the SBA. All SBA programs or cosponsored programs are extended to the public on a nondiscriminatory basis. Reasonable accommodations for persons with disabilities will be made\, if requested\, at least 2 weeks in advance. Contact: Women Business Center wbc@rencenter.org\, (415) 894-9779
URL:https://rencenter.org/event/procurement-federal-contracting-certifications-wbc-04-22-26/
CATEGORIES:Finance Workshops
ATTACH;FMTTYPE=image/png:https://rencenter.org/wp-content/uploads/2026/03/🖥️Procurement-Federal-Contracting-Certifications-WBC-042226.png
ORGANIZER;CN="Women's Business Center":MAILTO:wbc@rencenter.org
END:VEVENT
END:VCALENDAR