BEGIN:VCALENDAR
VERSION:2.0
PRODID:-//Renaissance Entrepreneurship Center - ECPv6.15.19//NONSGML v1.0//EN
CALSCALE:GREGORIAN
METHOD:PUBLISH
X-WR-CALNAME:Renaissance Entrepreneurship Center
X-ORIGINAL-URL:https://rencenter.org
X-WR-CALDESC:Events for Renaissance Entrepreneurship Center
REFRESH-INTERVAL;VALUE=DURATION:PT1H
X-Robots-Tag:noindex
X-PUBLISHED-TTL:PT1H
BEGIN:VTIMEZONE
TZID:America/Los_Angeles
BEGIN:DAYLIGHT
TZOFFSETFROM:-0800
TZOFFSETTO:-0700
TZNAME:PDT
DTSTART:20250309T100000
END:DAYLIGHT
BEGIN:STANDARD
TZOFFSETFROM:-0700
TZOFFSETTO:-0800
TZNAME:PST
DTSTART:20251102T090000
END:STANDARD
BEGIN:DAYLIGHT
TZOFFSETFROM:-0800
TZOFFSETTO:-0700
TZNAME:PDT
DTSTART:20260308T100000
END:DAYLIGHT
BEGIN:STANDARD
TZOFFSETFROM:-0700
TZOFFSETTO:-0800
TZNAME:PST
DTSTART:20261101T090000
END:STANDARD
BEGIN:DAYLIGHT
TZOFFSETFROM:-0800
TZOFFSETTO:-0700
TZNAME:PDT
DTSTART:20270314T100000
END:DAYLIGHT
BEGIN:STANDARD
TZOFFSETFROM:-0700
TZOFFSETTO:-0800
TZNAME:PST
DTSTART:20271107T090000
END:STANDARD
END:VTIMEZONE
BEGIN:VEVENT
DTSTART;TZID=America/Los_Angeles:20260420T170000
DTEND;TZID=America/Los_Angeles:20260420T190000
DTSTAMP:20260424T024219
CREATED:20260227T182224Z
LAST-MODIFIED:20260408T182012Z
UID:10007964-1776704400-1776711600@rencenter.org
SUMMARY:🖥️ Kit de Marketing Esencial para Emprendedores (East Bay) (4/20/26)
DESCRIPTION:Kit de Marketing Esencial para Emprendedores \nInstruido por MARKETEA \n\n\n\nLunes | Abril 20 | 5 – 7 pm por Zoom \n\n\n\n¿Por qué es clave contar con un Kit de Marketing completo para tu negocio? \n\n\nPorque te ayuda a presentar tu marca con profesionalismo y a conectar mejor con tus clientes. \n\n\n\n\n\nAprende sobre: \n\n\n\n    – Los elementos clave de un Kit de Marketing efectivo \n\n\n\n    – Proyectar una imagen profesional y coherente \n\n\n\n    – Atraer clientes y aprovecha más oportunidades de negocio \n\n\n\nColaboración con: The Latina Center \n. \n. \n¿Te gustaría unirte a este evento? \nTodos los clientes deben registrarse para las clases a través de su cuenta del portal del cliente. Así es como puedes hacerlo. \n¿Ya es cliente de Renaissance? \nInicie sesión en su portal de clientes y acceda al calendario en la parte superior de su pantalla \n¿Nuevo en la comunidad Renaissance? \nComience completando un formulario de interés del cliente y asistiendo a una orientación. \n*Todos los clientes deben completar un formulario de interés y asistir a la orientación antes de inscribirse en las clases.*
URL:https://rencenter.org/event/kit-de-marketing-esencial-para-emprendedores-east-bay-4-6-26/
LOCATION:zoom
CATEGORIES:Talleres en Español,Taller de Marketing
ATTACH;FMTTYPE=image/jpeg:https://rencenter.org/wp-content/uploads/2026/02/Kit-de-Marketing-Esencial-para-Emprendedores-1.jpg
ORGANIZER;CN="Yuli Solis":MAILTO:ysolis@
END:VEVENT
BEGIN:VEVENT
DTSTART;TZID=America/Los_Angeles:20260420T183000
DTEND;TZID=America/Los_Angeles:20260420T203000
DTSTAMP:20260424T024219
CREATED:20260220T010153Z
LAST-MODIFIED:20260417T190533Z
UID:10007960-1776709800-1776717000@rencenter.org
SUMMARY:Setting Up Your Social Media (SMACE 4/20/2026)
DESCRIPTION:What you will learn in this class:\n\nBenefits of strategic social media marketing\nSuccessful examples\nEffective keyword usage\nBest practices for Facebook\, Instagram\, and LinkedIn\nNavigating the social media marketing funnel\n\nInterested in attending this class?\nWe’re thrilled to have you! All clients must register for classes via your client portal account. Here’s how you can do it:\nAlready a Renaissance Client?\n\nLog in to your client portal\n\n\nGo to the Calendar: Navigate to the Calendar tab at your portal’s top left corner.\n\n\nSelect & Enroll: Find your desired class\, click on Enroll\, answer the brief questions\, and hit Submit.\n\nNew to the Renaissance Community?\n\nGet started by filling out a client interest form and creating your client portal.\n\n\nOrientation: Sign up for an orientation session and meet with a Renaissance team member who will work with you to assess your business needs.\n\n\nPost-Orientation Steps: Log into your new client portal after completing the orientation. Then\, follow the steps outlined under “Already a Renaissance Client” to register for classes.\n\n  \n*All clients must complete orientation before attending classes*
URL:https://rencenter.org/event/setting-up-your-social-media-smace-4-20-2026/
LOCATION:San Mateo Adult and Career Education\, 789 E Poplar Ave.\, San Mateo\, CA\, 94401\, United States
CATEGORIES:Marketing Workshops,Taller de Marketing
ATTACH;FMTTYPE=application/pdf:https://rencenter.org/wp-content/uploads/2026/02/SMACE-FLYER-Updated-1-2.pdf
END:VEVENT
END:VCALENDAR